BEGIN:VCALENDAR
VERSION:2.0
PRODID:-//Hengelo Leest - ECPv6.3.5//NONSGML v1.0//EN
CALSCALE:GREGORIAN
METHOD:PUBLISH
X-WR-CALNAME:Hengelo Leest
X-ORIGINAL-URL:https://www.hengeloleest.nl
X-WR-CALDESC:Evenementen voor Hengelo Leest
REFRESH-INTERVAL;VALUE=DURATION:PT1H
X-Robots-Tag:noindex
X-PUBLISHED-TTL:PT1H
BEGIN:VTIMEZONE
TZID:Europe/Amsterdam
BEGIN:DAYLIGHT
TZOFFSETFROM:+0100
TZOFFSETTO:+0200
TZNAME:CEST
DTSTART:20240331T010000
END:DAYLIGHT
BEGIN:STANDARD
TZOFFSETFROM:+0200
TZOFFSETTO:+0100
TZNAME:CET
DTSTART:20241027T010000
END:STANDARD
BEGIN:DAYLIGHT
TZOFFSETFROM:+0100
TZOFFSETTO:+0200
TZNAME:CEST
DTSTART:20250330T010000
END:DAYLIGHT
BEGIN:STANDARD
TZOFFSETFROM:+0200
TZOFFSETTO:+0100
TZNAME:CET
DTSTART:20251026T010000
END:STANDARD
END:VTIMEZONE
BEGIN:VEVENT
DTSTART;TZID=Europe/Amsterdam:20251102T143000
DTEND;TZID=Europe/Amsterdam:20251102T163000
DTSTAMP:20260419T174713
CREATED:20250821T111636Z
LAST-MODIFIED:20250821T111636Z
UID:9052-1762093800-1762101000@www.hengeloleest.nl
SUMMARY:CULTUURPODIUM
DESCRIPTION:
URL:https://www.hengeloleest.nl/event/cultuurpodium-12/
LOCATION:Schouwburg Hengelo\, Beursstraat 44\, Hengelo\, Overijssel\, 7551HV\, Nederland
END:VEVENT
BEGIN:VEVENT
DTSTART;TZID=Europe/Amsterdam:20250921T143000
DTEND;TZID=Europe/Amsterdam:20250921T163000
DTSTAMP:20260419T174713
CREATED:20250821T111337Z
LAST-MODIFIED:20250821T111353Z
UID:9048-1758465000-1758472200@www.hengeloleest.nl
SUMMARY:CULTUURPODIUM
DESCRIPTION:De eerste van het nieuwe seizoen. Middenzaal Schouwburg
URL:https://www.hengeloleest.nl/event/cultuurpodium-11/
LOCATION:Schouwburg Hengelo\, Beursstraat 44\, Hengelo\, Overijssel\, 7551HV\, Nederland
CATEGORIES:Cultuurpodium
END:VEVENT
BEGIN:VEVENT
DTSTART;TZID=Europe/Amsterdam:20250201T143000
DTEND;TZID=Europe/Amsterdam:20250201T170000
DTSTAMP:20260419T174713
CREATED:20240912T154810Z
LAST-MODIFIED:20241224T233510Z
UID:8727-1738420200-1738429200@www.hengeloleest.nl
SUMMARY:POËZIE MUZIEK FILM
DESCRIPTION:PMF; Poëzie en muziek in de middenzaal van de Schouwburg. Film in de filmzaal. PMF wordt gekoppeld aan het thema van de poëzieweek 2025: lijfelijkheid. Later meer  …
URL:https://www.hengeloleest.nl/event/pmf/
LOCATION:Schouwburg Hengelo\, Beursstraat 44\, Hengelo\, Overijssel\, 7551HV\, Nederland
CATEGORIES:PMF
ORGANIZER;CN="Stichting Hengelo Leest":MAILTO:info@hengeloleest.nl
END:VEVENT
BEGIN:VEVENT
DTSTART;TZID=Europe/Amsterdam:20250126T140000
DTEND;TZID=Europe/Amsterdam:20250126T173000
DTSTAMP:20260419T174713
CREATED:20241224T233905Z
LAST-MODIFIED:20241224T233905Z
UID:8877-1737900000-1737912600@www.hengeloleest.nl
SUMMARY:LITERATUUR BIJ DE BUUR
DESCRIPTION:Acht huiskamers in het centrum van Hengelo worden omgetoverd tot kleine theaters.\n(meer info volgt)
URL:https://www.hengeloleest.nl/event/literatuur-bij-de-buur-3/
LOCATION:Overijssel
ORGANIZER;CN="Stichting Hengelo Leest":MAILTO:info@hengeloleest.nl
END:VEVENT
BEGIN:VEVENT
DTSTART;TZID=Europe/Amsterdam:20250119T143000
DTEND;TZID=Europe/Amsterdam:20250119T163000
DTSTAMP:20260419T174713
CREATED:20240912T154108Z
LAST-MODIFIED:20240912T154108Z
UID:8723-1737297000-1737304200@www.hengeloleest.nl
SUMMARY:CULTUURPODIUM
DESCRIPTION:
URL:https://www.hengeloleest.nl/event/cultuurpodium-10/
LOCATION:Schouwburg Hengelo\, Beursstraat 44\, Hengelo\, Overijssel\, 7551HV\, Nederland
CATEGORIES:Cultuurpodium
ORGANIZER;CN="Stichting Hengelo Leest":MAILTO:info@hengeloleest.nl
END:VEVENT
BEGIN:VEVENT
DTSTART;TZID=Europe/Amsterdam:20241124T143000
DTEND;TZID=Europe/Amsterdam:20241124T163000
DTSTAMP:20260419T174713
CREATED:20240912T153945Z
LAST-MODIFIED:20240912T153945Z
UID:8721-1732458600-1732465800@www.hengeloleest.nl
SUMMARY:CULTUURPODIUM
DESCRIPTION:
URL:https://www.hengeloleest.nl/event/cultuurpodium-8/
LOCATION:Schouwburg Hengelo\, Beursstraat 44\, Hengelo\, Overijssel\, 7551HV\, Nederland
ORGANIZER;CN="Stichting Hengelo Leest":MAILTO:info@hengeloleest.nl
END:VEVENT
BEGIN:VEVENT
DTSTART;TZID=Europe/Amsterdam:20241027T143000
DTEND;TZID=Europe/Amsterdam:20241027T163000
DTSTAMP:20260419T174713
CREATED:20240912T153956Z
LAST-MODIFIED:20240912T153956Z
UID:8719-1730039400-1730046600@www.hengeloleest.nl
SUMMARY:CULTUURPODIUM
DESCRIPTION:Op zondagmiddag 27 oktober is er weer een cultuurpodium in de Schouwburg. Attentie: aanvang half 3! Gratis entree.
URL:https://www.hengeloleest.nl/event/cultuurpodium-9/
LOCATION:Schouwburg Hengelo\, Beursstraat 44\, Hengelo\, Overijssel\, 7551HV\, Nederland
CATEGORIES:Cultuurpodium
END:VEVENT
BEGIN:VEVENT
DTSTART;TZID=Europe/Amsterdam:20240929T143000
DTEND;TZID=Europe/Amsterdam:20240929T163000
DTSTAMP:20260419T174713
CREATED:20240912T153412Z
LAST-MODIFIED:20240912T153817Z
UID:8716-1727620200-1727627400@www.hengeloleest.nl
SUMMARY:CULTUURPODIUM
DESCRIPTION:De eerste editie van het Cultuurpodium van het seizoen 2024-2025. Locatie zoals gewoonlijk: Schouwburg Hengelo. Aanvang 14.30u (half uur eerder dus!)\nGratis entree.
URL:https://www.hengeloleest.nl/event/cultuurpodium-7/
LOCATION:Schouwburg Hengelo\, Beursstraat 44\, Hengelo\, Overijssel\, 7551HV\, Nederland
CATEGORIES:Cultuurpodium
ORGANIZER;CN="Stichting Hengelo Leest":MAILTO:info@hengeloleest.nl
END:VEVENT
BEGIN:VEVENT
DTSTART;TZID=Europe/Amsterdam:20240919T200000
DTEND;TZID=Europe/Amsterdam:20240919T220000
DTSTAMP:20260419T174713
CREATED:20240919T101548Z
LAST-MODIFIED:20240919T101548Z
UID:8741-1726776000-1726783200@www.hengeloleest.nl
SUMMARY:VERKIEZING NIEUWE STADSDICHTER
DESCRIPTION:
URL:https://www.hengeloleest.nl/event/verkiezing-nieuwe-stadsdichter/
LOCATION:Bibliotheek Hengelo\, Beursstraat 34\, Hengelo\, Overijssel\, 7551HV\, Nederland
ORGANIZER;CN="Stichting Hengelo Leest":MAILTO:info@hengeloleest.nl
END:VEVENT
BEGIN:VEVENT
DTSTART;TZID=Europe/Amsterdam:20240428T150000
DTEND;TZID=Europe/Amsterdam:20240428T170000
DTSTAMP:20260419T174713
CREATED:20240309T234341Z
LAST-MODIFIED:20240309T234341Z
UID:8455-1714316400-1714323600@www.hengeloleest.nl
SUMMARY:Cultuurpodium
DESCRIPTION:De laatste editie van het Cultuurpodium van het seizoen 2023-2024. Locatie zoals gewoonlijk: Schouwburg Hengelo.
URL:https://www.hengeloleest.nl/event/cultuurpodium-6/
LOCATION:Overijssel
CATEGORIES:Cultuurpodium
ORGANIZER;CN="Stichting Hengelo Leest":MAILTO:info@hengeloleest.nl
END:VEVENT
END:VCALENDAR