BEGIN:VCALENDAR
VERSION:2.0
PRODID:-//Hengelo Leest - ECPv6.3.5//NONSGML v1.0//EN
CALSCALE:GREGORIAN
METHOD:PUBLISH
X-WR-CALNAME:Hengelo Leest
X-ORIGINAL-URL:https://www.hengeloleest.nl
X-WR-CALDESC:Evenementen voor Hengelo Leest
REFRESH-INTERVAL;VALUE=DURATION:PT1H
X-Robots-Tag:noindex
X-PUBLISHED-TTL:PT1H
BEGIN:VTIMEZONE
TZID:Europe/Amsterdam
BEGIN:DAYLIGHT
TZOFFSETFROM:+0100
TZOFFSETTO:+0200
TZNAME:CEST
DTSTART:20250330T010000
END:DAYLIGHT
BEGIN:STANDARD
TZOFFSETFROM:+0200
TZOFFSETTO:+0100
TZNAME:CET
DTSTART:20251026T010000
END:STANDARD
END:VTIMEZONE
BEGIN:VEVENT
DTSTART;TZID=Europe/Amsterdam:20250119T143000
DTEND;TZID=Europe/Amsterdam:20250119T163000
DTSTAMP:20260422T052031
CREATED:20240912T154108Z
LAST-MODIFIED:20240912T154108Z
UID:8723-1737297000-1737304200@www.hengeloleest.nl
SUMMARY:CULTUURPODIUM
DESCRIPTION:
URL:https://www.hengeloleest.nl/event/cultuurpodium-10/
LOCATION:Schouwburg Hengelo\, Beursstraat 44\, Hengelo\, Overijssel\, 7551HV\, Nederland
CATEGORIES:Cultuurpodium
ORGANIZER;CN="Stichting Hengelo Leest":MAILTO:info@hengeloleest.nl
END:VEVENT
END:VCALENDAR